BEGIN:VCALENDAR
VERSION:2.0
PRODID:-//eventon.com NONSGML v1.0//EN
CALSCALE:GREGORIAN
METHOD:PUBLISH
BEGIN:VEVENT
UID:69e8ce61e7896
DTSTAMP:20260422T133425Z
DTSTART:20250604T070000Z
DTEND:20250605T170000Z
LOCATION:Peterskirche Petersberg 14 99084 Erfurt
SUMMARY:Investordays Thüringen - Edition X
DESCRIPTION:Die Investor Days Thüringen – Edition X machen Innovation er
 lebbar: Zum 10. Mal bringt das Event die internationale Startup-Community i
 n Erfurt zusammen\,  um Innovationen ins Spotlight zu stellen\,  Investment
 s zu ermöglichen und Kooperationen zu erzeugen. Erlebe am 4. und 5. Juni 2
 025 erfolgreiche Innovationen\,  entdecke Gründungs-Stories und networke m
 it der[..]\nhttps://startupvalley.news/de/events/investordays-thueringen-ed
 ition-x/
URL:https://startupvalley.news/de/events/investordays-thueringen-edition-x/
END:VEVENT
END:VCALENDAR