BEGIN:VCALENDAR
VERSION:2.0
PRODID:-//eventon.com NONSGML v1.0//EN
CALSCALE:GREGORIAN
METHOD:PUBLISH
BEGIN:VEVENT
UID:69e6c8f2c7dac
DTSTAMP:20260421T004642Z
DTSTART:20251021T090000Z
DTEND:20251021T180000Z
LOCATION:Wappenhalle Konrad-Zuse-Platz 8\,  81829 München
SUMMARY:SevenVentures Pitch Day
DESCRIPTION:Am 21. Oktober 2025 bietet der SevenVentures Pitch Day jungen U
 nternehmen wieder eine attraktive Plattform ihre Geschäftsmodelle einem Li
 ve-Publikum und einer fachkundigen Jury zu präsentieren und die Chance ein
  lukratives Werbebudget zu gewinnen. Forbes Magazine zufolge gehört der et
 ablierte Start-up-Wettbewerb sogar zu den wichtigsten Events der Start-up-S
 zene weltweit\,  da er[..]\nhttps://startupvalley.news/de/events/sevenventu
 res-pitch-day/
URL:https://startupvalley.news/de/events/sevenventures-pitch-day/
END:VEVENT
END:VCALENDAR