BEGIN:VCALENDAR
VERSION:2.0
PRODID:-//eventon.com NONSGML v1.0//EN
CALSCALE:GREGORIAN
METHOD:PUBLISH
BEGIN:VEVENT
UID:69e63b982b1bb
DTSTAMP:20260420T144336Z
DTSTART:20251204T114500Z
DTEND:20251205T131500Z
LOCATION:Spenerhaus Dominikanergasse 5/5\,  60311 Frankfurt am Main
SUMMARY:ibi-Zahlungsverkehrsforum
DESCRIPTION:Der gegenwärtige und zukünftige Zahlungsverkehr ist nach wie 
 vor hochdynamisch und facettenreich. Die große Themenvielfalt ist unter an
 derem gekennzeichnet durch neue Regulierungen\,  Technologien\,  Standards\
 ,  Marktakteure\,  Bezahlverfahren und Innovationen. Zu allem Überfluss ko
 mmen zu dieser Ausgangslage noch die aktuellen wirtschaftlichen und weltpol
 itisch unsicheren und unberechenbaren Zeiten hinzu\,  die im Kontext von[..
 ]\nhttps://startupvalley.news/de/events/ibi-zahlungsverkehrsforum/
URL:https://startupvalley.news/de/events/ibi-zahlungsverkehrsforum/
END:VEVENT
END:VCALENDAR